Workbook

Sheet Instructions
A1: Instructions for using this spreadsheet
A2: The Template contains up to four research questions and a range of lengths for different sections. EVERY JOURNAL IS DIFFERENT
A3: Based on your analysis of your target journal, adjust the Template for Drafting Paper. This modification might be a bullet point indicating, for example, number of paragraphs needed in each section
A4: Type bullet points or entire paragraphs into the Template for Drafting Paper sheet
A5: Cells in yellow can be completed at any time
A6: Cells containing numbers (1-4) and in colors (blue, purple, orange, green) should be completed as sets. Each number (or color) represents one research question and related methods/results
A7: When you are ready to move to a program designed for writing (e.g., WORD), copy and paste COLUMN B in the Template Reordered! sheet
A8: Voila - organized writing!
A10: Created by J. Libarkin and P. Jaimes, last update 1/2020
A13: Feel free to use, disseminate, modify, and otherwise enjoy this spreadsheet.

Sheet Template for Drafting Paper
A1: Notes | B1: Research Question | C1: Research Question(s) or Hypotheses or Predictions | D1: Methods - General | E1: Methods - Analysis | F1: Results (General) | G1: Results - Bullet point what you want to include in each paragraph. | H1: Discussion - tell us what the significance of your results. | I1: Introduction: Should match your discussion. Anything you discuss in discussion, should be in the introduction.
A2: Put any notes that don't fit into template here! | B2: Figures/Tables | C2: Research Question Figures/Tables | E2: Methods Figures/Tables | F2: Results Figures/Tables | H2: Discussion Figures/Tables | I2: Intro Figures/Tables
B3: General Question | C3: RQ1 | D3: Sample - Selection | E3: Methods - Analysis 1 | F3: Results General 1 | G3: 1. Paragraph 1 for Section 1 | H3: RQ1: What do your results mean? Why should we care? LINK TO INTRODUCTION | I3: 1. Paragraph 1 for Section 1
D4: Sample - Description | G4: 2. Paragraph 2 for Section 1 | I4: 2. Paragraph 2 for Section 1
D5: Data Collection - How, Where | G5: 3. Paragraph 3 for Section 1 | I5: 3. Paragraph 3 for Section 1
C6: RQ 2 | D6: Data Coding - all | E6: Methods - Analysis 2 | F6: Resuts General 2 | G6: 1. Paragraph 1 for Section 2 | H6: RQ2: What do your results mean? Why should we care? LINK TO INTRODUCTION | I6: 1. Paragraph 1 for Section 2
G7: 2. Paragraph 2 for Section 2 | I7: 2. Paragraph 2 for Section 2
G8: 3. Paragraph 3 for Section 2 | I8: 3. Paragraph 3 for Section 2
C9: RQ3 | E9: Methods - Analysis 3 | F9: Results General 3 | G9: 1. Paragraph 1 for Section 3 | H9: RQ3: What do your results mean? Why should we care? LINK TO INTRODUCTION | I9: 1. Paragraph 1 for Section 3
G10: 2. Paragraph 2 for Section 3 | I10: 2. Paragraph 2 for Section 3
G11: 3. Paragraph 3 for Section 3 | I11: 3. Paragraph 3 for Section 3
G12: 4. Paragraph 4 for Section 3 | I12: 4. Paragraph 4 for Section 3
G13: 5. Paragraph 5 for Section 3 | I13: 5. Paragraph 5 for Section 3
C14: RQ4 | E14: Methods - Analysis 4 | F14: Results General 4 | G14: 1. Paragraph 1 for Section 4 | H14: RQ4:What do your results mean? Why should we care? LINK TO INTRODUCTION | I14: 1. Paragraph 1 for Section 4
G15: 2. Paragraph 2 for Section 4 | I15: 2. Paragraph 2 for Section 4
G16: 3. Paragraph 3 for Section 4 | I16: 3. Paragraph 3 for Section 4
H17: Why should people in my immediate field care? LINK TO INTRODUCTION | I17: Describe how immediate field have approached, solved, and/or thought about this problem. END with hole that your study will fill.
A18: Title | B18: TITLE | H18: Why should people in broader fields doing related work care? LINK TO INTRODUCTION | I18: Describe how diverse fields have approached, solved, and/or thought about this problem.
A19: Authors | B19: AUTHOR NAMES | H19: Why should society (or broad disciplines) care? LINK TO INTRODUCTION | I19: Describe broad societal (or broad disciplines) problem
A21: NOTE: NOT ALL PAPERS WILL HAVE EXACTLY THIS NUMBER OF QUESTIONS-METHODS-RESULTS-ETC
A22: Number of paragraphs (variable) | B22: 1 | C22: 4 | D22: 3 | E22: 4 | F22: 4 | G22: 15 | H22: 7 | I22: 18
A23: =SUM(B22:I22) -> 56
A26: Created by J. Libarkin and P. Jaimes, last update 1/2020

Sheet Template Reordered!
A1: TITLE: Your general research question + your overarching finding | B1: ='Template for Drafting Paper'!B18 -> TITLE
A2: ='Template for Drafting Paper'!B19 -> AUTHOR NAMES | B2: cells below are autofilled from Template for Drafting Paper sheet - copy and paste into document
A3: INTRO
A4: Describe broad societal (or broad disciplines) problem | B4: ='Template for Drafting Paper'!I19 -> Describe broad societal (or broad disciplines) problem | C4: List of Figures/Tables
A5: Describe how diverse fields have approached, solved, and/or thought about this problem. | B5: ='Template for Drafting Paper'!I18 -> Describe how diverse fields have approached, solved, and/or thought about this problem. | C5: ='Template for Drafting Paper'!I2 -> Intro Figures/Tables
A6: Describe how immediate field have approached, solved, and/or thought about this problem. END with hole that your study will fill. | B6: ='Template for Drafting Paper'!I17 -> Describe how immediate field have approached, solved, and/or thought about this problem. END with hole that your study will fill. | C6: ='Template for Drafting Paper'!C2 -> Research Question Figures/Tables
A7: 1. Paragraph 1 for Section 1 | B7: ='Template for Drafting Paper'!I3 -> 1. Paragraph 1 for Section 1 | C7: ='Template for Drafting Paper'!E2 -> Methods Figures/Tables
A8: 2. Paragraph 2 for Section 1 | B8: ='Template for Drafting Paper'!I4 -> 2. Paragraph 2 for Section 1 | C8: ='Template for Drafting Paper'!F2 -> Results Figures/Tables
A9: 3. Paragraph 3 for Section 1 | B9: ='Template for Drafting Paper'!I5 -> 3. Paragraph 3 for Section 1 | C9: ='Template for Drafting Paper'!H2 -> Discussion Figures/Tables
A10: 1. Paragraph 1 for Section 2 | B10: ='Template for Drafting Paper'!I6 -> 1. Paragraph 1 for Section 2
A11: 2. Paragraph 2 for Section 2 | B11: ='Template for Drafting Paper'!I7 -> 2. Paragraph 2 for Section 2
A12: 3. Paragraph 3 for Section 2 | B12: ='Template for Drafting Paper'!I8 -> 3. Paragraph 3 for Section 2
A13: 1. Paragraph 1 for Section 3 | B13: ='Template for Drafting Paper'!I9 -> 1. Paragraph 1 for Section 3
A14: 2. Paragraph 2 for Section 3 | B14: ='Template for Drafting Paper'!I10 -> 2. Paragraph 2 for Section 3
A15: 3. Paragraph 3 for Section 3 | B15: ='Template for Drafting Paper'!I11 -> 3. Paragraph 3 for Section 3
A16: 4. Paragraph 4 for Section 3 | B16: ='Template for Drafting Paper'!I12 -> 4. Paragraph 4 for Section 3
A17: 5. Paragraph 5 for Section 3 | B17: ='Template for Drafting Paper'!I13 -> 5. Paragraph 5 for Section 3
A18: 1. Paragraph 1 for Section 4 | B18: ='Template for Drafting Paper'!I14 -> 1. Paragraph 1 for Section 4
A19: 2. Paragraph 2 for Section 4 | B19: ='Template for Drafting Paper'!I15 -> 2. Paragraph 2 for Section 4
A20: 3. Paragraph 3 for Section 4 | B20: ='Template for Drafting Paper'!I16 -> 3. Paragraph 3 for Section 4
A22: RESEARCH QUESTIONS (HYPOTHESES, PREDICTIONS)
A23: General Question | B23: ='Template for Drafting Paper'!B3 -> General Question
A24: RQ 1 | B24: ='Template for Drafting Paper'!C3 -> RQ1
A25: RQ 2 | B25: ='Template for Drafting Paper'!C6 -> RQ 2
A26: RQ3 | B26: ='Template for Drafting Paper'!C9 -> RQ3
A27: RQ4 | B27: ='Template for Drafting Paper'!C14 -> RQ4
A29: METHODS
A30: Sample - Selection | B30: ='Template for Drafting Paper'!D3 -> Sample - Selection
A31: Sample - Description | B31: ='Template for Drafting Paper'!D4 -> Sample - Description
A32: Data Collection - How, Where | B32: ='Template for Drafting Paper'!D5 -> Data Collection - How, Where
A33: Methods - Analysis 1 | B33: ='Template for Drafting Paper'!E3 -> Methods - Analysis 1
A34: Methods - Analysis 2 | B34: ='Template for Drafting Paper'!E6 -> Methods - Analysis 2
A35: Methods - Analysis 3 | B35: ='Template for Drafting Paper'!E9 -> Methods - Analysis 3
A36: Methods - Analysis 4 | B36: ='Template for Drafting Paper'!E14 -> Methods - Analysis 4
A38: RESULTS
A39: Results General 1 | B39: ='Template for Drafting Paper'!F3 -> Results General 1
A40: 1. Paragraph 1 for Section 1 | B40: ='Template for Drafting Paper'!G3 -> 1. Paragraph 1 for Section 1
A41: 2. Paragraph 2 for Section 1 | B41: ='Template for Drafting Paper'!G4 -> 2. Paragraph 2 for Section 1
A42: 3. Paragraph 3 for Section 1 | B42: ='Template for Drafting Paper'!G5 -> 3. Paragraph 3 for Section 1
A43: Resuts General 2 | B43: ='Template for Drafting Paper'!F6 -> Resuts General 2
...
